BEGIN:VCALENDAR
VERSION:2.0
PRODID:-//The Art Cabin - ECPv6.15.20//NONSGML v1.0//EN
CALSCALE:GREGORIAN
METHOD:PUBLISH
X-WR-CALNAME:The Art Cabin
X-ORIGINAL-URL:https://theartcab.in
X-WR-CALDESC:Events for The Art Cabin
REFRESH-INTERVAL;VALUE=DURATION:PT1H
X-Robots-Tag:noindex
X-PUBLISHED-TTL:PT1H
BEGIN:VTIMEZONE
TZID:Europe/Dublin
BEGIN:STANDARD
TZOFFSETFROM:+0000
TZOFFSETTO:+0100
TZNAME:IST
DTSTART:20300331T010000
END:STANDARD
BEGIN:DAYLIGHT
TZOFFSETFROM:+0100
TZOFFSETTO:+0000
TZNAME:GMT
DTSTART:20301027T010000
END:DAYLIGHT
BEGIN:STANDARD
TZOFFSETFROM:+0000
TZOFFSETTO:+0100
TZNAME:IST
DTSTART:20310330T010000
END:STANDARD
BEGIN:DAYLIGHT
TZOFFSETFROM:+0100
TZOFFSETTO:+0000
TZNAME:GMT
DTSTART:20311026T010000
END:DAYLIGHT
BEGIN:STANDARD
TZOFFSETFROM:+0000
TZOFFSETTO:+0100
TZNAME:IST
DTSTART:20320328T010000
END:STANDARD
BEGIN:DAYLIGHT
TZOFFSETFROM:+0100
TZOFFSETTO:+0000
TZNAME:GMT
DTSTART:20321031T010000
END:DAYLIGHT
END:VTIMEZONE
BEGIN:VEVENT
DTSTART;TZID=Europe/Dublin:20310203T173000
DTEND;TZID=Europe/Dublin:20310203T190000
DTSTAMP:20260424T202728
CREATED:20250728T212234Z
LAST-MODIFIED:20250911T160218Z
UID:10003098-1927906200-1927911600@theartcab.in
SUMMARY:Improvers (10+) | Mon
DESCRIPTION:For young artists ready to take their creativity further\, this class is all about building skills and confidence across a range of art forms — from drawing and painting to sculpture and beyond. With plenty of room to explore\, students will learn new techniques\, experiment with materials\, and deepen their understanding of visual art in a fun\, supportive environment.
URL:https://theartcab.in/single-event/improvers-10-monday/2031-02-03/
LOCATION:The Art Cabin\, 28 Elder Heath Hill\, Dublin\, Leinster\, D24 V0YD\, Ireland
CATEGORIES:Art Classes,Improvers (10+)
ATTACH;FMTTYPE=image/jpeg:https://theartcab.in/wp-content/uploads/2025/06/painting-911804_1920-e1750885298813.jpg
ORGANIZER;CN="The Art Cabin":MAILTO:katsartcabin@gmail.com
END:VEVENT
BEGIN:VEVENT
DTSTART;TZID=Europe/Dublin:20310210T173000
DTEND;TZID=Europe/Dublin:20310210T190000
DTSTAMP:20260424T202728
CREATED:20250728T212234Z
LAST-MODIFIED:20250911T160218Z
UID:10003099-1928511000-1928516400@theartcab.in
SUMMARY:Improvers (10+) | Mon
DESCRIPTION:For young artists ready to take their creativity further\, this class is all about building skills and confidence across a range of art forms — from drawing and painting to sculpture and beyond. With plenty of room to explore\, students will learn new techniques\, experiment with materials\, and deepen their understanding of visual art in a fun\, supportive environment.
URL:https://theartcab.in/single-event/improvers-10-monday/2031-02-10/
LOCATION:The Art Cabin\, 28 Elder Heath Hill\, Dublin\, Leinster\, D24 V0YD\, Ireland
CATEGORIES:Art Classes,Improvers (10+)
ATTACH;FMTTYPE=image/jpeg:https://theartcab.in/wp-content/uploads/2025/06/painting-911804_1920-e1750885298813.jpg
ORGANIZER;CN="The Art Cabin":MAILTO:katsartcabin@gmail.com
END:VEVENT
BEGIN:VEVENT
DTSTART;TZID=Europe/Dublin:20310217T173000
DTEND;TZID=Europe/Dublin:20310217T190000
DTSTAMP:20260424T202728
CREATED:20250728T212234Z
LAST-MODIFIED:20250911T160218Z
UID:10003100-1929115800-1929121200@theartcab.in
SUMMARY:Improvers (10+) | Mon
DESCRIPTION:For young artists ready to take their creativity further\, this class is all about building skills and confidence across a range of art forms — from drawing and painting to sculpture and beyond. With plenty of room to explore\, students will learn new techniques\, experiment with materials\, and deepen their understanding of visual art in a fun\, supportive environment.
URL:https://theartcab.in/single-event/improvers-10-monday/2031-02-17/
LOCATION:The Art Cabin\, 28 Elder Heath Hill\, Dublin\, Leinster\, D24 V0YD\, Ireland
CATEGORIES:Art Classes,Improvers (10+)
ATTACH;FMTTYPE=image/jpeg:https://theartcab.in/wp-content/uploads/2025/06/painting-911804_1920-e1750885298813.jpg
ORGANIZER;CN="The Art Cabin":MAILTO:katsartcabin@gmail.com
END:VEVENT
BEGIN:VEVENT
DTSTART;TZID=Europe/Dublin:20310224T173000
DTEND;TZID=Europe/Dublin:20310224T190000
DTSTAMP:20260424T202728
CREATED:20250728T212234Z
LAST-MODIFIED:20250911T160218Z
UID:10003101-1929720600-1929726000@theartcab.in
SUMMARY:Improvers (10+) | Mon
DESCRIPTION:For young artists ready to take their creativity further\, this class is all about building skills and confidence across a range of art forms — from drawing and painting to sculpture and beyond. With plenty of room to explore\, students will learn new techniques\, experiment with materials\, and deepen their understanding of visual art in a fun\, supportive environment.
URL:https://theartcab.in/single-event/improvers-10-monday/2031-02-24/
LOCATION:The Art Cabin\, 28 Elder Heath Hill\, Dublin\, Leinster\, D24 V0YD\, Ireland
CATEGORIES:Art Classes,Improvers (10+)
ATTACH;FMTTYPE=image/jpeg:https://theartcab.in/wp-content/uploads/2025/06/painting-911804_1920-e1750885298813.jpg
ORGANIZER;CN="The Art Cabin":MAILTO:katsartcabin@gmail.com
END:VEVENT
BEGIN:VEVENT
DTSTART;TZID=Europe/Dublin:20310303T173000
DTEND;TZID=Europe/Dublin:20310303T190000
DTSTAMP:20260424T202728
CREATED:20250728T212234Z
LAST-MODIFIED:20250911T160218Z
UID:10003181-1930325400-1930330800@theartcab.in
SUMMARY:Improvers (10+) | Mon
DESCRIPTION:For young artists ready to take their creativity further\, this class is all about building skills and confidence across a range of art forms — from drawing and painting to sculpture and beyond. With plenty of room to explore\, students will learn new techniques\, experiment with materials\, and deepen their understanding of visual art in a fun\, supportive environment.
URL:https://theartcab.in/single-event/improvers-10-monday/2031-03-03/
LOCATION:The Art Cabin\, 28 Elder Heath Hill\, Dublin\, Leinster\, D24 V0YD\, Ireland
CATEGORIES:Art Classes,Improvers (10+)
ATTACH;FMTTYPE=image/jpeg:https://theartcab.in/wp-content/uploads/2025/06/painting-911804_1920-e1750885298813.jpg
ORGANIZER;CN="The Art Cabin":MAILTO:katsartcabin@gmail.com
END:VEVENT
BEGIN:VEVENT
DTSTART;TZID=Europe/Dublin:20310310T173000
DTEND;TZID=Europe/Dublin:20310310T190000
DTSTAMP:20260424T202728
CREATED:20250728T212234Z
LAST-MODIFIED:20250911T160218Z
UID:10003185-1930930200-1930935600@theartcab.in
SUMMARY:Improvers (10+) | Mon
DESCRIPTION:For young artists ready to take their creativity further\, this class is all about building skills and confidence across a range of art forms — from drawing and painting to sculpture and beyond. With plenty of room to explore\, students will learn new techniques\, experiment with materials\, and deepen their understanding of visual art in a fun\, supportive environment.
URL:https://theartcab.in/single-event/improvers-10-monday/2031-03-10/
LOCATION:The Art Cabin\, 28 Elder Heath Hill\, Dublin\, Leinster\, D24 V0YD\, Ireland
CATEGORIES:Art Classes,Improvers (10+)
ATTACH;FMTTYPE=image/jpeg:https://theartcab.in/wp-content/uploads/2025/06/painting-911804_1920-e1750885298813.jpg
ORGANIZER;CN="The Art Cabin":MAILTO:katsartcabin@gmail.com
END:VEVENT
BEGIN:VEVENT
DTSTART;TZID=Europe/Dublin:20310317T173000
DTEND;TZID=Europe/Dublin:20310317T190000
DTSTAMP:20260424T202728
CREATED:20250728T212234Z
LAST-MODIFIED:20250911T160218Z
UID:10003189-1931535000-1931540400@theartcab.in
SUMMARY:Improvers (10+) | Mon
DESCRIPTION:For young artists ready to take their creativity further\, this class is all about building skills and confidence across a range of art forms — from drawing and painting to sculpture and beyond. With plenty of room to explore\, students will learn new techniques\, experiment with materials\, and deepen their understanding of visual art in a fun\, supportive environment.
URL:https://theartcab.in/single-event/improvers-10-monday/2031-03-17/
LOCATION:The Art Cabin\, 28 Elder Heath Hill\, Dublin\, Leinster\, D24 V0YD\, Ireland
CATEGORIES:Art Classes,Improvers (10+)
ATTACH;FMTTYPE=image/jpeg:https://theartcab.in/wp-content/uploads/2025/06/painting-911804_1920-e1750885298813.jpg
ORGANIZER;CN="The Art Cabin":MAILTO:katsartcabin@gmail.com
END:VEVENT
BEGIN:VEVENT
DTSTART;TZID=Europe/Dublin:20310324T173000
DTEND;TZID=Europe/Dublin:20310324T190000
DTSTAMP:20260424T202728
CREATED:20250728T212234Z
LAST-MODIFIED:20250911T160218Z
UID:10003194-1932139800-1932145200@theartcab.in
SUMMARY:Improvers (10+) | Mon
DESCRIPTION:For young artists ready to take their creativity further\, this class is all about building skills and confidence across a range of art forms — from drawing and painting to sculpture and beyond. With plenty of room to explore\, students will learn new techniques\, experiment with materials\, and deepen their understanding of visual art in a fun\, supportive environment.
URL:https://theartcab.in/single-event/improvers-10-monday/2031-03-24/
LOCATION:The Art Cabin\, 28 Elder Heath Hill\, Dublin\, Leinster\, D24 V0YD\, Ireland
CATEGORIES:Art Classes,Improvers (10+)
ATTACH;FMTTYPE=image/jpeg:https://theartcab.in/wp-content/uploads/2025/06/painting-911804_1920-e1750885298813.jpg
ORGANIZER;CN="The Art Cabin":MAILTO:katsartcabin@gmail.com
END:VEVENT
BEGIN:VEVENT
DTSTART;TZID=Europe/Dublin:20310331T173000
DTEND;TZID=Europe/Dublin:20310331T190000
DTSTAMP:20260424T202728
CREATED:20250728T212234Z
LAST-MODIFIED:20250911T160218Z
UID:10003201-1932744600-1932750000@theartcab.in
SUMMARY:Improvers (10+) | Mon
DESCRIPTION:For young artists ready to take their creativity further\, this class is all about building skills and confidence across a range of art forms — from drawing and painting to sculpture and beyond. With plenty of room to explore\, students will learn new techniques\, experiment with materials\, and deepen their understanding of visual art in a fun\, supportive environment.
URL:https://theartcab.in/single-event/improvers-10-monday/2031-03-31/
LOCATION:The Art Cabin\, 28 Elder Heath Hill\, Dublin\, Leinster\, D24 V0YD\, Ireland
CATEGORIES:Art Classes,Improvers (10+)
ATTACH;FMTTYPE=image/jpeg:https://theartcab.in/wp-content/uploads/2025/06/painting-911804_1920-e1750885298813.jpg
ORGANIZER;CN="The Art Cabin":MAILTO:katsartcabin@gmail.com
END:VEVENT
BEGIN:VEVENT
DTSTART;TZID=Europe/Dublin:20310407T173000
DTEND;TZID=Europe/Dublin:20310407T190000
DTSTAMP:20260424T202728
CREATED:20250728T212234Z
LAST-MODIFIED:20250911T160218Z
UID:10003202-1933349400-1933354800@theartcab.in
SUMMARY:Improvers (10+) | Mon
DESCRIPTION:For young artists ready to take their creativity further\, this class is all about building skills and confidence across a range of art forms — from drawing and painting to sculpture and beyond. With plenty of room to explore\, students will learn new techniques\, experiment with materials\, and deepen their understanding of visual art in a fun\, supportive environment.
URL:https://theartcab.in/single-event/improvers-10-monday/2031-04-07/
LOCATION:The Art Cabin\, 28 Elder Heath Hill\, Dublin\, Leinster\, D24 V0YD\, Ireland
CATEGORIES:Art Classes,Improvers (10+)
ATTACH;FMTTYPE=image/jpeg:https://theartcab.in/wp-content/uploads/2025/06/painting-911804_1920-e1750885298813.jpg
ORGANIZER;CN="The Art Cabin":MAILTO:katsartcabin@gmail.com
END:VEVENT
BEGIN:VEVENT
DTSTART;TZID=Europe/Dublin:20310414T173000
DTEND;TZID=Europe/Dublin:20310414T190000
DTSTAMP:20260424T202728
CREATED:20250728T212234Z
LAST-MODIFIED:20250911T160218Z
UID:10003206-1933954200-1933959600@theartcab.in
SUMMARY:Improvers (10+) | Mon
DESCRIPTION:For young artists ready to take their creativity further\, this class is all about building skills and confidence across a range of art forms — from drawing and painting to sculpture and beyond. With plenty of room to explore\, students will learn new techniques\, experiment with materials\, and deepen their understanding of visual art in a fun\, supportive environment.
URL:https://theartcab.in/single-event/improvers-10-monday/2031-04-14/
LOCATION:The Art Cabin\, 28 Elder Heath Hill\, Dublin\, Leinster\, D24 V0YD\, Ireland
CATEGORIES:Art Classes,Improvers (10+)
ATTACH;FMTTYPE=image/jpeg:https://theartcab.in/wp-content/uploads/2025/06/painting-911804_1920-e1750885298813.jpg
ORGANIZER;CN="The Art Cabin":MAILTO:katsartcabin@gmail.com
END:VEVENT
BEGIN:VEVENT
DTSTART;TZID=Europe/Dublin:20310421T173000
DTEND;TZID=Europe/Dublin:20310421T190000
DTSTAMP:20260424T202728
CREATED:20250728T212234Z
LAST-MODIFIED:20250911T160218Z
UID:10003210-1934559000-1934564400@theartcab.in
SUMMARY:Improvers (10+) | Mon
DESCRIPTION:For young artists ready to take their creativity further\, this class is all about building skills and confidence across a range of art forms — from drawing and painting to sculpture and beyond. With plenty of room to explore\, students will learn new techniques\, experiment with materials\, and deepen their understanding of visual art in a fun\, supportive environment.
URL:https://theartcab.in/single-event/improvers-10-monday/2031-04-21/
LOCATION:The Art Cabin\, 28 Elder Heath Hill\, Dublin\, Leinster\, D24 V0YD\, Ireland
CATEGORIES:Art Classes,Improvers (10+)
ATTACH;FMTTYPE=image/jpeg:https://theartcab.in/wp-content/uploads/2025/06/painting-911804_1920-e1750885298813.jpg
ORGANIZER;CN="The Art Cabin":MAILTO:katsartcabin@gmail.com
END:VEVENT
END:VCALENDAR